BEGIN:VCALENDAR
VERSION:2.0
PRODID:El Segundo Libraries Calendar Creator
METHOD:PUBLISH
BEGIN:VEVENT
DTSTAMP:20220609T113340
DTSTART:20220612T100000
DTEND:20220612T113000
SUMMARY:Daddy & Me Storytime
DESCRIPTION:<p><iframe src="https://www.youtube.com/embed/tg52nU2n8aI" width="400" allowfullscreen="" height="300" frameborder="0"></iframe>&nbsp;</p><p>An exciting collaboration between ESPL and ESFD will take place on Sunday, June 12, 10:00 a.m. to 11:30 a.m. at Fire Station #1. Join Captain Engler and El Segundo Poet Laureate Hope Anita Smith as they share Hope’s book of poems that celebrates dads; My Daddy Rules the World! There will also be an age-appropriate poetry activity, photo opportunities and much more! Please contact Senior Librarian Julie Todd at 310-524-2729 or <a href="mailto:jtodd@elsegundo.org" target="_blank" rel="noopener">jtodd@elsegundo.org</a> for additional information.</p><p></p><p>&nbsp;</p><p>&nbsp;</p>
X-ALT-DESC;FMTTYPE=text/html:<p><iframe src="https://www.youtube.com/embed/tg52nU2n8aI" width="400" allowfullscreen="" height="300" frameborder="0"></iframe>&nbsp;</p><p>An exciting collaboration between ESPL and ESFD will take place on Sunday, June 12, 10:00 a.m. to 11:30 a.m. at Fire Station #1. Join Captain Engler and El Segundo Poet Laureate Hope Anita Smith as they share Hope’s book of poems that celebrates dads; My Daddy Rules the World! There will also be an age-appropriate poetry activity, photo opportunities and much more! Please contact Senior Librarian Julie Todd at 310-524-2729 or <a href="mailto:jtodd@elsegundo.org" target="_blank" rel="noopener">jtodd@elsegundo.org</a> for additional information.</p><p></p><p>&nbsp;</p><p>&nbsp;</p>
LOCATION:Fire Station #1\, 314 Main St. El Segundo\, California 90245
CLASS:PUBLIC
END:VEVENT
END:VCALENDAR
