BEGIN:VCALENDAR
VERSION:2.0
PRODID:El Segundo Libraries Calendar Creator
METHOD:PUBLISH
BEGIN:VEVENT
DTSTAMP:20220527T091514
DTSTART:20220603T120000
DTEND:20220603T120000
SUMMARY:Environmental Committee Meeting
DESCRIPTION:<p style="text-align: center;"><strong>PUBLIC WORKS/ENVIRONMENTAL COMMITTEE<br>REGULAR MEETING<br>FRIDAY, JUNE 3, 2022 AT NOON</strong></p>
X-ALT-DESC;FMTTYPE=text/html:<p style="text-align: center;"><strong>PUBLIC WORKS/ENVIRONMENTAL COMMITTEE<br>REGULAR MEETING<br>FRIDAY, JUNE 3, 2022 AT NOON</strong></p>
LOCATION:City Council Chamber\, 350 Main Street El Segundo\, California 90245
CLASS:PUBLIC
END:VEVENT
END:VCALENDAR
