BEGIN:VCALENDAR
VERSION:2.0
PRODID:El Segundo Libraries Calendar Creator
METHOD:PUBLISH
BEGIN:VEVENT
DTSTAMP:20220603T155440
DTSTART:20220615T150000
DTEND:20220615T154500
SUMMARY:Mad Science! Summer Reading Kickoff Program
DESCRIPTION:<div><p>Join us as we kick off our Summer Reading Program with Mad Science! Make some waves that make some noise in this fun and earthshaking show. Children will get tuned into science with exciting demonstrations and experiments that focus on the science of sound.</p></div>
X-ALT-DESC;FMTTYPE=text/html:<div><p>Join us as we kick off our Summer Reading Program with Mad Science! Make some waves that make some noise in this fun and earthshaking show. Children will get tuned into science with exciting demonstrations and experiments that focus on the science of sound.</p></div>
LOCATION:Library Park\, 600 Block of Main Street El Segundo\, California 90245
CLASS:PUBLIC
END:VEVENT
END:VCALENDAR
