BEGIN:VCALENDAR
VERSION:2.0
PRODID:El Segundo Libraries Calendar Creator
METHOD:PUBLISH
BEGIN:VEVENT
DTSTAMP:20220705T134041
DTSTART:20220706T100000
DTEND:20220706T102000
SUMMARY:Beach Blanket Storytime Baby/Toddler
DESCRIPTION:<h2 direction-ltr="" align-center="">Bring a beach blanket and join us weekly for songs, stories, sun and fun!</h2><p direction-ltr="" align-center="">Ages 0-2</p><p direction-ltr="" align-center="">Wednesdays at 10:00 AM at Library Park.</p><p direction-ltr="" align-center="">Adult needs to accompany child.</p><p direction-ltr="" align-center="">No registration required.</p><p>&nbsp;</p><p direction-ltr="" align-center="">&nbsp;</p>
X-ALT-DESC;FMTTYPE=text/html:<h2 direction-ltr="" align-center="">Bring a beach blanket and join us weekly for songs, stories, sun and fun!</h2><p direction-ltr="" align-center="">Ages 0-2</p><p direction-ltr="" align-center="">Wednesdays at 10:00 AM at Library Park.</p><p direction-ltr="" align-center="">Adult needs to accompany child.</p><p direction-ltr="" align-center="">No registration required.</p><p>&nbsp;</p><p direction-ltr="" align-center="">&nbsp;</p>
LOCATION:Library Park\, 600 Block of Main Street El Segundo\, California 90245
CLASS:PUBLIC
END:VEVENT
END:VCALENDAR
