BEGIN:VCALENDAR
VERSION:2.0
PRODID:El Segundo Libraries Calendar Creator
METHOD:PUBLISH
BEGIN:VEVENT
DTSTAMP:20220913T102301
DTSTART:20220914T113000
DTEND:20220914T130000
SUMMARY:State of the City Luncheon
DESCRIPTION:<p></p><p>Join El Segundo Mayor Drew Boyles, Councilmembers and the El Segundo Chamber of Commerce on September 14th&nbsp;from 11:30 a.m. - 1:30 p.m. at the Pacific Corporate Towers to hear about the City's recent accomplishments and goals for 2023. For sponsorships, reservations and info please visit the Chamber's website&nbsp;<a href="https://www.elsegundochamber.com/?utm_medium=email&amp;utm_source=govdelivery" target="_blank" rel="noopener">here</a>.&nbsp;</p>
X-ALT-DESC;FMTTYPE=text/html:<p></p><p>Join El Segundo Mayor Drew Boyles, Councilmembers and the El Segundo Chamber of Commerce on September 14th&nbsp;from 11:30 a.m. - 1:30 p.m. at the Pacific Corporate Towers to hear about the City's recent accomplishments and goals for 2023. For sponsorships, reservations and info please visit the Chamber's website&nbsp;<a href="https://www.elsegundochamber.com/?utm_medium=email&amp;utm_source=govdelivery" target="_blank" rel="noopener">here</a>.&nbsp;</p>
LOCATION:
CLASS:PUBLIC
END:VEVENT
END:VCALENDAR
