BEGIN:VCALENDAR
VERSION:2.0
PRODID:El Segundo Libraries Calendar Creator
METHOD:PUBLISH
BEGIN:VEVENT
DTSTAMP:20220505T155249
DTSTART:20220528T100000
DTEND:20220528T120000
SUMMARY:Start With Art
DESCRIPTION:<p>Enjoy kid friendly, age appropriate crafts!</p><p>Crafts are designed for children ages 0-12.</p><p>&nbsp;Children under 8 must be accompanied by adult.</p>
X-ALT-DESC;FMTTYPE=text/html:<p>Enjoy kid friendly, age appropriate crafts!</p><p>Crafts are designed for children ages 0-12.</p><p>&nbsp;Children under 8 must be accompanied by adult.</p>
LOCATION:El Segundo Public Library\, 111 W. Mariposa Avenue El Segundo\, California 90245
CLASS:PUBLIC
END:VEVENT
END:VCALENDAR
