BEGIN:VCALENDAR
VERSION:2.0
PRODID:El Segundo Libraries Calendar Creator
METHOD:PUBLISH
BEGIN:VEVENT
DTSTAMP:20220504T122657
DTSTART:20220504T153000
DTEND:20220504T163000
SUMMARY:Star Wars Day Craft Program
DESCRIPTION:<p>Come to the darkside, we have crafts!</p><p>Drop into our galaxy (Sue Carter Community Room) on May the Fourth from 3:30pm to 4:30 for out of this world crafts &amp; a scavenger hunt! For kids ages 4 and up. Star Wars costumes are welcome. While supplies last.</p>
X-ALT-DESC;FMTTYPE=text/html:<p>Come to the darkside, we have crafts!</p><p>Drop into our galaxy (Sue Carter Community Room) on May the Fourth from 3:30pm to 4:30 for out of this world crafts &amp; a scavenger hunt! For kids ages 4 and up. Star Wars costumes are welcome. While supplies last.</p>
LOCATION:El Segundo Public Library\, 111 W. Mariposa Avenue El Segundo\, California 90245
CLASS:PUBLIC
END:VEVENT
END:VCALENDAR
