BEGIN:VCALENDAR
VERSION:2.0
PRODID:El Segundo Libraries Calendar Creator
METHOD:PUBLISH
BEGIN:VEVENT
DTSTAMP:20220504T184714
DTSTART:20220516T153000
DTEND:20220516T163000
SUMMARY:I Am Golden Storytime & Craft
DESCRIPTION:<p>In Celebration of Asian Pacific American Heritage Month<br>I Am Golden Storytime &amp; Craft May 16th 3:30 p.m. Sue Carter Community Room</p>
X-ALT-DESC;FMTTYPE=text/html:<p>In Celebration of Asian Pacific American Heritage Month<br>I Am Golden Storytime &amp; Craft May 16th 3:30 p.m. Sue Carter Community Room</p>
LOCATION:El Segundo Public Library\, 111 W. Mariposa Avenue El Segundo\, California 90245
CLASS:PUBLIC
END:VEVENT
END:VCALENDAR
