BEGIN:VCALENDAR
VERSION:2.0
PRODID:El Segundo Libraries Calendar Creator
METHOD:PUBLISH
BEGIN:VEVENT
DTSTAMP:20220504T184624
DTSTART:20220510T153000
DTEND:20220510T163000
SUMMARY:Baila Baila! A Children's Concert
DESCRIPTION:<p>Join Baila Baila for an interactive bilingual Spanish &amp; English children's concert in Library Park! Please bring a blanket or chair to sit on.&nbsp;</p><p>Children of all ages are welcome. Children under 8 must be accompanied by an adult.</p>
X-ALT-DESC;FMTTYPE=text/html:<p>Join Baila Baila for an interactive bilingual Spanish &amp; English children's concert in Library Park! Please bring a blanket or chair to sit on.&nbsp;</p><p>Children of all ages are welcome. Children under 8 must be accompanied by an adult.</p>
LOCATION:Library Park\, 600 Block Main Street El Segundo\, California 90245
CLASS:PUBLIC
END:VEVENT
END:VCALENDAR
