BEGIN:VCALENDAR
VERSION:2.0
PRODID:El Segundo Libraries Calendar Creator
METHOD:PUBLISH
BEGIN:VEVENT
DTSTAMP:20220725T153729
DTSTART:20220807T110000
DTEND:20220807T140000
SUMMARY:Go Fly a Kite Day
DESCRIPTION:<p><iframe src="https://www.youtube.com/embed/a0dMLAhzIXo" width="400" allowfullscreen="" height="300" frameborder="0"></iframe>&nbsp;</p><p>Join us for Go Fly a Kite Day at Recreation Park. Bring your own kite and enjoy the festivities. Free kites will be available while supplies lasts. The festivities include arts, crafts, food, and music throughout the event. After the event, check out our last concert in Library Park at 4:00pm.</p><p>If you can't make it, that's ok! Fly your kite wherever you can and tag us on social media @ESRECANDPARKS using #GoFlyAKiteDay.</p>
X-ALT-DESC;FMTTYPE=text/html:<p><iframe src="https://www.youtube.com/embed/a0dMLAhzIXo" width="400" allowfullscreen="" height="300" frameborder="0"></iframe>&nbsp;</p><p>Join us for Go Fly a Kite Day at Recreation Park. Bring your own kite and enjoy the festivities. Free kites will be available while supplies lasts. The festivities include arts, crafts, food, and music throughout the event. After the event, check out our last concert in Library Park at 4:00pm.</p><p>If you can't make it, that's ok! Fly your kite wherever you can and tag us on social media @ESRECANDPARKS using #GoFlyAKiteDay.</p>
LOCATION:Recreation Park\, 401 Sheldon Street El Segundo\, California 90245
CLASS:PUBLIC
END:VEVENT
END:VCALENDAR
