BEGIN:VCALENDAR
VERSION:2.0
PRODID:El Segundo Libraries Calendar Creator
METHOD:PUBLISH
BEGIN:VEVENT
DTSTAMP:20220421T154327
DTSTART:20220524T153000
DTEND:20220524T163000
SUMMARY:Crafteen
DESCRIPTION:<p>Crafteen<br>(Teens 13-18yrs)</p><p>Join us in the Sue Carter Community Room for a fun afternoon of making crafts!<br>All supplies are included.&nbsp;</p>
X-ALT-DESC;FMTTYPE=text/html:<p>Crafteen<br>(Teens 13-18yrs)</p><p>Join us in the Sue Carter Community Room for a fun afternoon of making crafts!<br>All supplies are included.&nbsp;</p>
LOCATION:El Segundo Public Library\, 111 W. Mariposa Avenue El Segundo\, California 90245
CLASS:PUBLIC
END:VEVENT
END:VCALENDAR
