BEGIN:VCALENDAR
VERSION:2.0
PRODID:El Segundo Libraries Calendar Creator
METHOD:PUBLISH
BEGIN:VEVENT
DTSTAMP:20220421T153608
DTSTART:20220510T153000
DTEND:20220510T173000
SUMMARY:Art Workshop for Teens!
DESCRIPTION:<p direction-ltr="" align-center="" para-style-body"="">Teen Art Workshop with artist John Manuel Ildenfonso!</p><p direction-ltr="" align-center="" para-style-body"="">Join artist John for a fun community themed art workshop! Using different mediums and techniques teens will make artwork that has specific connections to their community.</p><p direction-ltr="" align-center="" para-style-body"="">No registration is required. All supplies will be provided.</p><p direction-ltr="" align-center="" para-style-body"="">Teens are encouraged to collect personal/meaningful images from the city of El Segundo. Teens may also bring images that connect to their community. Teens will use images the day of the workshop.</p><p direction-ltr="" align-center="" para-style-body"="">&nbsp;</p><p direction-ltr="" align-center="" para-style-body"="">If you have any questions about the program please call 310-524-2799.</p>
X-ALT-DESC;FMTTYPE=text/html:<p direction-ltr="" align-center="" para-style-body"="">Teen Art Workshop with artist John Manuel Ildenfonso!</p><p direction-ltr="" align-center="" para-style-body"="">Join artist John for a fun community themed art workshop! Using different mediums and techniques teens will make artwork that has specific connections to their community.</p><p direction-ltr="" align-center="" para-style-body"="">No registration is required. All supplies will be provided.</p><p direction-ltr="" align-center="" para-style-body"="">Teens are encouraged to collect personal/meaningful images from the city of El Segundo. Teens may also bring images that connect to their community. Teens will use images the day of the workshop.</p><p direction-ltr="" align-center="" para-style-body"="">&nbsp;</p><p direction-ltr="" align-center="" para-style-body"="">If you have any questions about the program please call 310-524-2799.</p>
LOCATION:El Segundo Public Library\, 111 W. Mariposa Avenue El Segundo\, California 90245
CLASS:PUBLIC
END:VEVENT
END:VCALENDAR
