BEGIN:VCALENDAR
VERSION:2.0
PRODID:El Segundo Libraries Calendar Creator
METHOD:PUBLISH
BEGIN:VEVENT
DTSTAMP:20220420T120558
DTSTART:20220423T100000
DTEND:20220423T140000
SUMMARY:Tri-Five Chevy Car Show
DESCRIPTION:<p><strong>Join us for our Tri-Five Chevy Car Show</strong></p><p>Get your Tri-Fives ready for Saturday, April 23, 2022, from 10 am till 2 pm.<br><br>Cruise over to the Zimmerman Automobile Driving Museum for the Tri-Five meeting of the year!<br><br>Come for the Chevys, live entertainment &amp; delicious food trucks.<br><br>Register your car for this event <a href="https://www.automobiledrivingmuseum.org/event/trifive2022/" target="_blank">here</a>.</p>
X-ALT-DESC;FMTTYPE=text/html:<p><strong>Join us for our Tri-Five Chevy Car Show</strong></p><p>Get your Tri-Fives ready for Saturday, April 23, 2022, from 10 am till 2 pm.<br><br>Cruise over to the Zimmerman Automobile Driving Museum for the Tri-Five meeting of the year!<br><br>Come for the Chevys, live entertainment &amp; delicious food trucks.<br><br>Register your car for this event <a href="https://www.automobiledrivingmuseum.org/event/trifive2022/" target="_blank">here</a>.</p>
LOCATION:Automobile Driving Museum\, 610 Lairport Street El Segundo\, California 90245
CLASS:PUBLIC
END:VEVENT
END:VCALENDAR
