BEGIN:VCALENDAR
VERSION:2.0
PRODID:El Segundo Libraries Calendar Creator
METHOD:PUBLISH
BEGIN:VEVENT
DTSTAMP:20220416T181320
DTSTART:20220421T150000
DTEND:20220421T190000
SUMMARY:Earth Week at the Farmer's Market
DESCRIPTION:<p>Join the Public Works Department and Environmental Committee on Thursday, April 21 to come talk about “all things green” in person during Earth Week at the Farmer’s Market.&nbsp; The community is welcomed!&nbsp;</p><p>The Environmental&nbsp;Committee and partners from EDCO want to help our residents learn how to easily implement the new organic waste ordinance, using the green bin to compost all food and yard waste together. Eco-minded students from ESHS will also be at the booth to talk about their upcoming&nbsp;<a href="https://sites.google.com/esusd.net/sbycs/home" target="_blank">South Bay Youth Climate Summit</a>, and even our youngest visitors can have fun with coloring, play sorting to practice “what goes where” in our three-bin system, and other fun Earth Week themed activities.</p>
X-ALT-DESC;FMTTYPE=text/html:<p>Join the Public Works Department and Environmental Committee on Thursday, April 21 to come talk about “all things green” in person during Earth Week at the Farmer’s Market.&nbsp; The community is welcomed!&nbsp;</p><p>The Environmental&nbsp;Committee and partners from EDCO want to help our residents learn how to easily implement the new organic waste ordinance, using the green bin to compost all food and yard waste together. Eco-minded students from ESHS will also be at the booth to talk about their upcoming&nbsp;<a href="https://sites.google.com/esusd.net/sbycs/home" target="_blank">South Bay Youth Climate Summit</a>, and even our youngest visitors can have fun with coloring, play sorting to practice “what goes where” in our three-bin system, and other fun Earth Week themed activities.</p>
LOCATION:Farmers Market\, Main Street El Segundo\, California 90245
CLASS:PUBLIC
END:VEVENT
END:VCALENDAR
