BEGIN:VCALENDAR
VERSION:2.0
PRODID:El Segundo Libraries Calendar Creator
METHOD:PUBLISH
BEGIN:VEVENT
DTSTAMP:20220411T162252
DTSTART:20220415T070000
DTEND:20220415T090000
SUMMARY:Mayor's Good Friday Breakfast
DESCRIPTION:<p><iframe src="https://www.youtube.com/embed/AEGnck2Medw" width="400" allowfullscreen="" height="300" frameborder="0"></iframe></p><p>For information and tickets, <a href="https://youtu.be/AEGnck2Medw" target="_blank">please click here</a>.&nbsp;</p>
X-ALT-DESC;FMTTYPE=text/html:<p><iframe src="https://www.youtube.com/embed/AEGnck2Medw" width="400" allowfullscreen="" height="300" frameborder="0"></iframe></p><p>For information and tickets, <a href="https://youtu.be/AEGnck2Medw" target="_blank">please click here</a>.&nbsp;</p>
LOCATION:
CLASS:PUBLIC
END:VEVENT
END:VCALENDAR
