BEGIN:VCALENDAR
VERSION:2.0
PRODID:El Segundo Libraries Calendar Creator
METHOD:PUBLISH
BEGIN:VEVENT
DTSTAMP:20220425T160409
DTSTART:20220427T153000
DTEND:20220427T163000
SUMMARY:Lucky Diaz’s Paletero Man Storytime
DESCRIPTION:<p>Celebrate the Sweet Tastes of Community with Lucky Diaz’s Paletero Man Storytime</p><p>The El Segundo Public Library's Dia program celebrates the strengths and sweetness of community featuring Lucky Diaz's colorful picture book Paletero Man. Library staff will read the story and then gather participants for a fun craft activity that includes creating age-appropriate popsicle crafts. </p><p>After stories and crafts, library staff will lead the participants into the park for sidewalk chalk art using popsicle-shaped chalk. </p><p>Participants will also be able to continue to explore bilingual stories with take-home book and activity kits.</p>
X-ALT-DESC;FMTTYPE=text/html:<p>Celebrate the Sweet Tastes of Community with Lucky Diaz’s Paletero Man Storytime</p><p>The El Segundo Public Library's Dia program celebrates the strengths and sweetness of community featuring Lucky Diaz's colorful picture book Paletero Man. Library staff will read the story and then gather participants for a fun craft activity that includes creating age-appropriate popsicle crafts. </p><p>After stories and crafts, library staff will lead the participants into the park for sidewalk chalk art using popsicle-shaped chalk. </p><p>Participants will also be able to continue to explore bilingual stories with take-home book and activity kits.</p>
LOCATION:El Segundo Public Library\, 111 W. Mariposa Avenue El Segundo\, California 90245
CLASS:PUBLIC
END:VEVENT
END:VCALENDAR
