BEGIN:VCALENDAR
VERSION:2.0
PRODID:El Segundo Libraries Calendar Creator
METHOD:PUBLISH
BEGIN:VEVENT
DTSTAMP:20220331T160650
DTSTART:20220412T110000
DTEND:20220412T113000
SUMMARY:Spring Storytime in Library Park!
DESCRIPTION:<p direction-ltr="" align-center="" para-style-body"="">&nbsp;For kids 0-5 years old.</p><p direction-ltr="" align-center="" para-style-body"="">Join us on April 12th  for a fun Spring Storytime and craft!</p><p direction-ltr="" align-center="" para-style-body"="">Please bring a chair or blanket for your comfort.</p>
X-ALT-DESC;FMTTYPE=text/html:<p direction-ltr="" align-center="" para-style-body"="">&nbsp;For kids 0-5 years old.</p><p direction-ltr="" align-center="" para-style-body"="">Join us on April 12th  for a fun Spring Storytime and craft!</p><p direction-ltr="" align-center="" para-style-body"="">Please bring a chair or blanket for your comfort.</p>
LOCATION:
CLASS:PUBLIC
END:VEVENT
END:VCALENDAR
