BEGIN:VCALENDAR
VERSION:2.0
PRODID:El Segundo Libraries Calendar Creator
METHOD:PUBLISH
BEGIN:VEVENT
DTSTAMP:20220331T141449
DTSTART:20220425T150000
DTEND:20220425T160000
SUMMARY:Chess Club
DESCRIPTION:<p>Join us for drop-in chess!&nbsp;<br>Meet other chess players and have fun while learning strategies from each other.</p><p direction-ltr="" align-center="" para-style-heading1"="">In the Youth Services area.</p><p direction-ltr="" align-center="" para-style-heading1"="">Chess boards provided or bring your own.</p>
X-ALT-DESC;FMTTYPE=text/html:<p>Join us for drop-in chess!&nbsp;<br>Meet other chess players and have fun while learning strategies from each other.</p><p direction-ltr="" align-center="" para-style-heading1"="">In the Youth Services area.</p><p direction-ltr="" align-center="" para-style-heading1"="">Chess boards provided or bring your own.</p>
LOCATION:El Segundo Public Library\, 111 W. Mariposa Avenue El Segundo\, California 90245
CLASS:PUBLIC
END:VEVENT
END:VCALENDAR
