BEGIN:VCALENDAR
VERSION:2.0
PRODID:El Segundo Libraries Calendar Creator
METHOD:PUBLISH
BEGIN:VEVENT
DTSTAMP:20220331T130702
DTSTART:20220413T153000
DTEND:20220413T161500
SUMMARY:Springtime Scavenger Hunt
DESCRIPTION:<p direction-ltr="" align-center="" para-style-body"="">Kids 5-10yrs old&nbsp;</p><p direction-ltr="" align-center="" para-style-body"="">Join us  for a fun story followed by a springtime scavenger hunt!</p><p direction-ltr="" align-center="" para-style-body"="">Please bring a chair or blanket for your comfort.</p><p direction-ltr="" align-center="" para-style-body"="">Children under 8 must be accompanied by an adult.</p>
X-ALT-DESC;FMTTYPE=text/html:<p direction-ltr="" align-center="" para-style-body"="">Kids 5-10yrs old&nbsp;</p><p direction-ltr="" align-center="" para-style-body"="">Join us  for a fun story followed by a springtime scavenger hunt!</p><p direction-ltr="" align-center="" para-style-body"="">Please bring a chair or blanket for your comfort.</p><p direction-ltr="" align-center="" para-style-body"="">Children under 8 must be accompanied by an adult.</p>
LOCATION:Library Park\, 600 Block of Main Street El Segundo\, California 90245
CLASS:PUBLIC
END:VEVENT
END:VCALENDAR
