BEGIN:VCALENDAR
VERSION:2.0
PRODID:El Segundo Libraries Calendar Creator
METHOD:PUBLISH
BEGIN:VEVENT
DTSTAMP:20220427T160837
DTSTART:20220519T183000
DTEND:20220519T200000
SUMMARY:Barbara La Marr: The Girl Who Was Too Beautiful for Hollywood
DESCRIPTION:<p>Actress and writer Sherri Snyder will perform her one-woman show “Barbara La Marr: The Girl Who Was Too Beautiful for Hollywood,” which is about a silent movie star.&nbsp; This event will be presented on Thursday, May 19 from 6:30-8pm.</p><p>The program includes a slideshow lecture and time for audience Q&amp;A.&nbsp; Please call Roz at 310-524-2773 for more information.</p>
X-ALT-DESC;FMTTYPE=text/html:<p>Actress and writer Sherri Snyder will perform her one-woman show “Barbara La Marr: The Girl Who Was Too Beautiful for Hollywood,” which is about a silent movie star.&nbsp; This event will be presented on Thursday, May 19 from 6:30-8pm.</p><p>The program includes a slideshow lecture and time for audience Q&amp;A.&nbsp; Please call Roz at 310-524-2773 for more information.</p>
LOCATION:El Segundo Public Library\, 111 W. Mariposa Avenue El Segundo\, California 90245
CLASS:PUBLIC
END:VEVENT
END:VCALENDAR
