BEGIN:VCALENDAR
VERSION:2.0
PRODID:El Segundo Libraries Calendar Creator
METHOD:PUBLISH
BEGIN:VEVENT
DTSTAMP:20220318T091155
DTSTART:20220404T090000
DTEND:20220404T170000
SUMMARY:Collages Art Exhibition by El Segundo Poet Laureate Hope Anita Smith
DESCRIPTION:<p><i>Collages</i> by El Segundo Poet Laureate Hope Anita Smith is a solo exhibition presented in ALLSPACE (formerly Room of Requirement) during open hours&nbsp;in the ES Public Library beginning April 4 to April 29, 2022.&nbsp; &nbsp;For more information, please contact Cultural Arts Coordinator Sam Lee at 310-524-2771.</p>
X-ALT-DESC;FMTTYPE=text/html:<p><i>Collages</i> by El Segundo Poet Laureate Hope Anita Smith is a solo exhibition presented in ALLSPACE (formerly Room of Requirement) during open hours&nbsp;in the ES Public Library beginning April 4 to April 29, 2022.&nbsp; &nbsp;For more information, please contact Cultural Arts Coordinator Sam Lee at 310-524-2771.</p>
LOCATION:El Segundo Public Library\, 111 W. Mariposa Avenue El Segundo\, California 90245
CLASS:PUBLIC
END:VEVENT
END:VCALENDAR
