BEGIN:VCALENDAR
VERSION:2.0
PRODID:El Segundo Libraries Calendar Creator
METHOD:PUBLISH
BEGIN:VEVENT
DTSTAMP:20220309T161410
DTSTART:20220317T160000
DTEND:20220317T180000
SUMMARY:Friends of the Library Business Meeting
DESCRIPTION:<p>Members of the Friends of the El Segundo Public Library meet to discuss library-related activities. The business meeting is held on the third Thursday of the month, on a bi-monthly basis--January, March, May, July, September and November--in the Library's Sue Carter Community Room. The business meetings are open to the public and everyone is welcome to attend.</p><p>&nbsp;*PLEASE NOTE:&nbsp; This March 17 meeting will not be in-person but instead will be held via Zoom.</p><p>Join Zoom Meeting:&nbsp;&nbsp;<a href="https://us06web.zoom.us/j/85056932816?pwd=QnpXNHlaYk9xSGdHbitkVUVnMENPdz09">https://us06web.zoom.us/j/85056932816?pwd=QnpXNHlaYk9xSGdHbitkVUVnMENPdz09</a></p><p>Meeting ID: 850 5693 2816</p><p>Passcode: 876817</p><p>By Phone: 720-707-2699</p>
X-ALT-DESC;FMTTYPE=text/html:<p>Members of the Friends of the El Segundo Public Library meet to discuss library-related activities. The business meeting is held on the third Thursday of the month, on a bi-monthly basis--January, March, May, July, September and November--in the Library's Sue Carter Community Room. The business meetings are open to the public and everyone is welcome to attend.</p><p>&nbsp;*PLEASE NOTE:&nbsp; This March 17 meeting will not be in-person but instead will be held via Zoom.</p><p>Join Zoom Meeting:&nbsp;&nbsp;<a href="https://us06web.zoom.us/j/85056932816?pwd=QnpXNHlaYk9xSGdHbitkVUVnMENPdz09">https://us06web.zoom.us/j/85056932816?pwd=QnpXNHlaYk9xSGdHbitkVUVnMENPdz09</a></p><p>Meeting ID: 850 5693 2816</p><p>Passcode: 876817</p><p>By Phone: 720-707-2699</p>
LOCATION:Sue Carter Community Room\, El Segundo Public Library\, 111 W. Mariposa Avenue El Segundo\, California 90245
CLASS:PUBLIC
END:VEVENT
END:VCALENDAR
