BEGIN:VCALENDAR
VERSION:2.0
PRODID:El Segundo Libraries Calendar Creator
METHOD:PUBLISH
BEGIN:VEVENT
DTSTAMP:20220303T113745
DTSTART:20220404T150000
DTEND:20220404T200000
SUMMARY:GABIT
DESCRIPTION:Come join us for the Spring Break GABIT basketball tournament on April 4th - 8th from 3pm to 8pm. The tournament will be 4 on 4 at the El Segundo Teen Center basketball court. It is open to anyone in 8<sup>th</sup> through 12<sup>th</sup> grade that’s ready to have some fun. There is no fee for those with a valid Rec ID, those without a Rec ID will be charged $15 to participate. Registration opens to everyone on March 7<sup>th</sup>, to register go to <a href="https://secure.rec1.com/CA/el-segundo-ca/catalog" target="_blank">esrec.org</a> For more information email Terrence Wilson at <a href="mailto:&#116;&#119;&#105;&#108;&#115;&#111;&#110;&#64;&#101;&#108;&#115;&#101;&#103;&#117;&#110;&#100;&#111;&#46;&#111;&#114;&#103;">twilson@elsegundo.org</a>&nbsp;
X-ALT-DESC;FMTTYPE=text/html:Come join us for the Spring Break GABIT basketball tournament on April 4th - 8th from 3pm to 8pm. The tournament will be 4 on 4 at the El Segundo Teen Center basketball court. It is open to anyone in 8<sup>th</sup> through 12<sup>th</sup> grade that’s ready to have some fun. There is no fee for those with a valid Rec ID, those without a Rec ID will be charged $15 to participate. Registration opens to everyone on March 7<sup>th</sup>, to register go to <a href="https://secure.rec1.com/CA/el-segundo-ca/catalog" target="_blank">esrec.org</a> For more information email Terrence Wilson at <a href="mailto:&#116;&#119;&#105;&#108;&#115;&#111;&#110;&#64;&#101;&#108;&#115;&#101;&#103;&#117;&#110;&#100;&#111;&#46;&#111;&#114;&#103;">twilson@elsegundo.org</a>&nbsp;
LOCATION:
CLASS:PUBLIC
END:VEVENT
END:VCALENDAR
