BEGIN:VCALENDAR
VERSION:2.0
PRODID:El Segundo Libraries Calendar Creator
METHOD:PUBLISH
BEGIN:VEVENT
DTSTAMP:20220406T132452
DTSTART:20220409T130000
DTEND:20220409T140000
SUMMARY:South Bay Swing Performs in Library Park
DESCRIPTION:El Segundo's SOUTH BAY SWING performs in the gazebo at Library Park.&nbsp; Sounds from the '20s through the '40s will be featured.&nbsp; Bring a blanket and a picnic and enjoy this FREE concert with your family and friends.
X-ALT-DESC;FMTTYPE=text/html:El Segundo's SOUTH BAY SWING performs in the gazebo at Library Park.&nbsp; Sounds from the '20s through the '40s will be featured.&nbsp; Bring a blanket and a picnic and enjoy this FREE concert with your family and friends.
LOCATION:Library Park\, 600 Block of Main Street El Segundo\, California 90245
CLASS:PUBLIC
END:VEVENT
END:VCALENDAR
