BEGIN:VCALENDAR
VERSION:2.0
PRODID:El Segundo Libraries Calendar Creator
METHOD:PUBLISH
BEGIN:VEVENT
DTSTAMP:20220318T091026
DTSTART:20220319T130000
DTEND:20220319T150000
SUMMARY:Smoky Hollow Bluegrass Performs in Library Park
DESCRIPTION:<p>Bring your own picnic and blanket and enjoy a FREE concert featuring El Segundo's own SMOKY HOLLOW BLUEGRASS in Library Park. Hope to see you there!&nbsp;</p><p>&nbsp;</p>
X-ALT-DESC;FMTTYPE=text/html:<p>Bring your own picnic and blanket and enjoy a FREE concert featuring El Segundo's own SMOKY HOLLOW BLUEGRASS in Library Park. Hope to see you there!&nbsp;</p><p>&nbsp;</p>
LOCATION:Library Park\, 600 Block of Main Street El Segundo\, California 90245
CLASS:PUBLIC
END:VEVENT
END:VCALENDAR
