BEGIN:VCALENDAR
VERSION:2.0
PRODID:El Segundo Libraries Calendar Creator
METHOD:PUBLISH
BEGIN:VEVENT
DTSTAMP:20220305T092424
DTSTART:20220311T100000
DTEND:20220311T113000
SUMMARY:Living Library Event with El Segundo Poet Laureate Hope Anita Smith
DESCRIPTION:<p>Write your own poetry and make art with Living Book and El Segundo’s Poet Laureate Hope Anita Smith at El Segundo's own art lab, ESMoA. Materials will be provided. There will be time to ask questions and talk with Hope.&nbsp; &nbsp;The Living Library is a collaboration with the El Segundo Public Library and ESMoA.</p>
X-ALT-DESC;FMTTYPE=text/html:<p>Write your own poetry and make art with Living Book and El Segundo’s Poet Laureate Hope Anita Smith at El Segundo's own art lab, ESMoA. Materials will be provided. There will be time to ask questions and talk with Hope.&nbsp; &nbsp;The Living Library is a collaboration with the El Segundo Public Library and ESMoA.</p>
LOCATION:
CLASS:PUBLIC
END:VEVENT
END:VCALENDAR
