BEGIN:VCALENDAR
VERSION:2.0
PRODID:El Segundo Libraries Calendar Creator
METHOD:PUBLISH
BEGIN:VEVENT
DTSTAMP:20220305T092125
DTSTART:20220312T140000
DTEND:20220312T170000
SUMMARY:Experience 30: Mind, a Living Library collaboration with the El Segundo Public Library and ESMoA
DESCRIPTION:The Living Library encourages participants to sit down with our "human books" for 20 minute one-on-one conversations to foster empathy and a better understanding of people's life experiences and differences.&nbsp; For more information or to "check out" one of our Living Books, please contact either ESMoA (424-277-1020) or the El Segundo Public Library (310-524-2728.)
X-ALT-DESC;FMTTYPE=text/html:The Living Library encourages participants to sit down with our "human books" for 20 minute one-on-one conversations to foster empathy and a better understanding of people's life experiences and differences.&nbsp; For more information or to "check out" one of our Living Books, please contact either ESMoA (424-277-1020) or the El Segundo Public Library (310-524-2728.)
LOCATION:
CLASS:PUBLIC
END:VEVENT
END:VCALENDAR
