BEGIN:VCALENDAR
VERSION:2.0
PRODID:El Segundo Libraries Calendar Creator
METHOD:PUBLISH
BEGIN:VEVENT
DTSTAMP:20220305T092156
DTSTART:20220312T100000
DTEND:20220312T110000
SUMMARY:Living Library Talk with Holocaust survivor Dr. Valery Lanyi
DESCRIPTION:The El Segundo Public Library collaborates with ESMoA to present a Living Library event featuring Dr. Valery Lanyi in City Hall Plaza.&nbsp; Dr. Lanyi is a Holocaust survivor and will share her story and answer audience questions.&nbsp; For additional information, please contact Julie Todd at 310-524-2729.
X-ALT-DESC;FMTTYPE=text/html:The El Segundo Public Library collaborates with ESMoA to present a Living Library event featuring Dr. Valery Lanyi in City Hall Plaza.&nbsp; Dr. Lanyi is a Holocaust survivor and will share her story and answer audience questions.&nbsp; For additional information, please contact Julie Todd at 310-524-2729.
LOCATION:El Segundo City Hall\, 350 Main Street El Segundo\, California 90245
CLASS:PUBLIC
END:VEVENT
END:VCALENDAR
