BEGIN:VCALENDAR
VERSION:2.0
PRODID:El Segundo Libraries Calendar Creator
METHOD:PUBLISH
BEGIN:VEVENT
DTSTAMP:20220411T162855
DTSTART:20220416T093000
DTEND:20220416T110000
SUMMARY:Egg Hunt Eggstravaganza
DESCRIPTION:<p><iframe src="https://www.youtube.com/embed/B4sIGZQDM-k" width="400" allowfullscreen="" height="300" frameborder="0"></iframe>&nbsp;</p><p>Join us at our annual Egg Hunt Eggstravaganza! The Bunny and his friends will be available for pictures throughout the event.</p>
X-ALT-DESC;FMTTYPE=text/html:<p><iframe src="https://www.youtube.com/embed/B4sIGZQDM-k" width="400" allowfullscreen="" height="300" frameborder="0"></iframe>&nbsp;</p><p>Join us at our annual Egg Hunt Eggstravaganza! The Bunny and his friends will be available for pictures throughout the event.</p>
LOCATION:
CLASS:PUBLIC
END:VEVENT
END:VCALENDAR
