BEGIN:VCALENDAR
VERSION:2.0
PRODID:El Segundo Libraries Calendar Creator
METHOD:PUBLISH
BEGIN:VEVENT
DTSTAMP:20220219T105807
DTSTART:20220303T180000
DTEND:20220303T190000
SUMMARY:History Committee Meeting
DESCRIPTION:Please join the History Committee at 6:00 p.m. on Thursday, March 3, 2022, as in-person meetings resume in the Library's Sue Carter Community Room. Note that attendees will be required to wear masks at all times while in the Library.&nbsp; Committee members review acquisitions and determine how to handle them.  For other information about membership or committee activities, please&nbsp;<a href="mailto:&#105;&#110;&#102;&#111;&#64;&#101;&#108;&#115;&#101;&#103;&#117;&#110;&#100;&#111;&#104;&#105;&#115;&#116;&#111;&#114;&#121;&#46;&#111;&#114;&#103;">email</a>&nbsp;us.
X-ALT-DESC;FMTTYPE=text/html:Please join the History Committee at 6:00 p.m. on Thursday, March 3, 2022, as in-person meetings resume in the Library's Sue Carter Community Room. Note that attendees will be required to wear masks at all times while in the Library.&nbsp; Committee members review acquisitions and determine how to handle them.  For other information about membership or committee activities, please&nbsp;<a href="mailto:&#105;&#110;&#102;&#111;&#64;&#101;&#108;&#115;&#101;&#103;&#117;&#110;&#100;&#111;&#104;&#105;&#115;&#116;&#111;&#114;&#121;&#46;&#111;&#114;&#103;">email</a>&nbsp;us.
LOCATION:El Segundo Public Library\, 111 W. Mariposa Avenue El Segundo\, California 90245
CLASS:PUBLIC
END:VEVENT
END:VCALENDAR
