BEGIN:VCALENDAR
VERSION:2.0
PRODID:El Segundo Libraries Calendar Creator
METHOD:PUBLISH
BEGIN:VEVENT
DTSTAMP:20220222T120307
DTSTART:20220223T170000
DTEND:20220223T180000
SUMMARY:Small Treasures Art Reception
DESCRIPTION:Join us for El Segundo Public Library's first Annual Juried Small Works Exhibition.
X-ALT-DESC;FMTTYPE=text/html:Join us for El Segundo Public Library's first Annual Juried Small Works Exhibition.
LOCATION:El Segundo Public Library\, 111 W. Mariposa Avenue El Segundo\, California 90245
CLASS:PUBLIC
END:VEVENT
END:VCALENDAR
