BEGIN:VCALENDAR
VERSION:2.0
PRODID:El Segundo Libraries Calendar Creator
METHOD:PUBLISH
BEGIN:VEVENT
DTSTAMP:20220217T101245
DTSTART:20220221T000000
DTEND:20220221T235900
SUMMARY:Presidents Day - City Hall Closed
DESCRIPTION:In observance of Presidents Day, City Hall will be closed on Monday, February 21st, and will resume normal operations on Tuesday, February 22nd.
X-ALT-DESC;FMTTYPE=text/html:In observance of Presidents Day, City Hall will be closed on Monday, February 21st, and will resume normal operations on Tuesday, February 22nd.
LOCATION:El Segundo City Hall\, 350 Main Street El Segundo\, California 90245
CLASS:PUBLIC
END:VEVENT
END:VCALENDAR
