BEGIN:VCALENDAR
VERSION:2.0
PRODID:El Segundo Libraries Calendar Creator
METHOD:PUBLISH
BEGIN:VEVENT
DTSTAMP:20221017T160845
DTSTART:20220309T163000
DTEND:20220309T183000
SUMMARY:Diversity, Equity, and Inclusion Committee Meeting
DESCRIPTION:&nbsp;
X-ALT-DESC;FMTTYPE=text/html:&nbsp;
LOCATION:
CLASS:PUBLIC
END:VEVENT
END:VCALENDAR
