BEGIN:VCALENDAR
VERSION:2.0
PRODID:El Segundo Libraries Calendar Creator
METHOD:PUBLISH
BEGIN:VEVENT
DTSTAMP:20220308T142043
DTSTART:20220210T150000
DTEND:20220210T150000
SUMMARY:CC Finance Committee Meeting Agenda
DESCRIPTION:<p>&nbsp;</p><p><strong>PRESENTATION:</strong>&nbsp;<a href="https://www.elsegundo.org/home/showdocument?id=4940" target="_blank" id="Presentation">2022-02-10 CC Agenda - Executive Compensation Presentation</a></p>
X-ALT-DESC;FMTTYPE=text/html:<p>&nbsp;</p><p><strong>PRESENTATION:</strong>&nbsp;<a href="https://www.elsegundo.org/home/showdocument?id=4940" target="_blank" id="Presentation">2022-02-10 CC Agenda - Executive Compensation Presentation</a></p>
LOCATION:El Segundo Police Department\, 348 Main Street El Segundo\, California 90245
CLASS:PUBLIC
END:VEVENT
END:VCALENDAR
