BEGIN:VCALENDAR
VERSION:2.0
PRODID:El Segundo Libraries Calendar Creator
METHOD:PUBLISH
BEGIN:VEVENT
DTSTAMP:20220218T091324
DTSTART:20220303T160000
DTEND:20220303T170000
SUMMARY:Jazz it Up! with Dr. Bobby Rodriguez
DESCRIPTION:<p><iframe src="https://www.youtube.com/embed/T8U0JAcfmfQ" width="400" allowfullscreen="" height="300" frameborder="0"></iframe>&nbsp;</p><p>Join the El Segundo Public Library staff for a FREE Music Center On Tour concert - Jazz it Up! with Dr. Bobby Rodriguez on Thursday, March 3rd at 4:00 p.m. at City Hall Plaza, located at 350 Main Street in El Segundo.&nbsp;</p><p> Grammy-nominated Dr. Bobby Rodriguez is a professor of jazz at several area universities and is dedicated to expanding the musical experience of his audiences.</p><p>There will be hands-on musical instrument crafting for kids and the weekly Farmers Market will in full swing, so there's a lot to see and do.&nbsp; Hope to see you there!</p>
X-ALT-DESC;FMTTYPE=text/html:<p><iframe src="https://www.youtube.com/embed/T8U0JAcfmfQ" width="400" allowfullscreen="" height="300" frameborder="0"></iframe>&nbsp;</p><p>Join the El Segundo Public Library staff for a FREE Music Center On Tour concert - Jazz it Up! with Dr. Bobby Rodriguez on Thursday, March 3rd at 4:00 p.m. at City Hall Plaza, located at 350 Main Street in El Segundo.&nbsp;</p><p> Grammy-nominated Dr. Bobby Rodriguez is a professor of jazz at several area universities and is dedicated to expanding the musical experience of his audiences.</p><p>There will be hands-on musical instrument crafting for kids and the weekly Farmers Market will in full swing, so there's a lot to see and do.&nbsp; Hope to see you there!</p>
LOCATION:El Segundo City Hall\, 350 Main Street El Segundo\, California 90245
CLASS:PUBLIC
END:VEVENT
END:VCALENDAR
