BEGIN:VCALENDAR
VERSION:2.0
PRODID:El Segundo Libraries Calendar Creator
METHOD:PUBLISH
BEGIN:VEVENT
DTSTAMP:20220222T120342
DTSTART:20220223T183000
DTEND:20220223T193000
SUMMARY:Evening Book Club
DESCRIPTION:The Evening Book Club has chosen The Ten Thousand Doors of January by Alix E. Harrow for the February meeting on Zoom.&nbsp; Books are available first come, first serve at the Reference Desk.&nbsp; Books are also available in ebook format to download through the library's website.&nbsp; Please call the reference desk at 310-524-2728 (email refdesk@elsegundo.org) for more information and Zoom link.
X-ALT-DESC;FMTTYPE=text/html:The Evening Book Club has chosen The Ten Thousand Doors of January by Alix E. Harrow for the February meeting on Zoom.&nbsp; Books are available first come, first serve at the Reference Desk.&nbsp; Books are also available in ebook format to download through the library's website.&nbsp; Please call the reference desk at 310-524-2728 (email refdesk@elsegundo.org) for more information and Zoom link.
LOCATION:
CLASS:PUBLIC
END:VEVENT
END:VCALENDAR
