BEGIN:VCALENDAR
VERSION:2.0
PRODID:El Segundo Libraries Calendar Creator
METHOD:PUBLISH
BEGIN:VEVENT
DTSTAMP:20220202T095057
DTSTART:20220217T150000
DTEND:20220217T160000
SUMMARY:Teen Book Club
DESCRIPTION:<p direction-ltr="" align-center="" para-style-body"="">Chat about what you’re reading!</p><p direction-ltr="" align-center="" para-style-body"="">Meet in Library Park</p><p direction-ltr="" align-center="" para-style-body"="">(bring a beach blanket or chair).</p><p direction-ltr="" align-center="" para-style-body"="">Earn 1 hour of volunteer credit per meeting.</p>
X-ALT-DESC;FMTTYPE=text/html:<p direction-ltr="" align-center="" para-style-body"="">Chat about what you’re reading!</p><p direction-ltr="" align-center="" para-style-body"="">Meet in Library Park</p><p direction-ltr="" align-center="" para-style-body"="">(bring a beach blanket or chair).</p><p direction-ltr="" align-center="" para-style-body"="">Earn 1 hour of volunteer credit per meeting.</p>
LOCATION:Library Park\, 600 Block of Main Street El Segundo\, California 90245
CLASS:PUBLIC
END:VEVENT
END:VCALENDAR
