BEGIN:VCALENDAR
VERSION:2.0
PRODID:El Segundo Libraries Calendar Creator
METHOD:PUBLISH
BEGIN:VEVENT
DTSTAMP:20220202T093552
DTSTART:20220208T090000
DTEND:20220208T100000
SUMMARY:Teen Take Home Craft
DESCRIPTION:<p>Teens can pick up a Valentine's Day Craft Starting Tuesday, February 8th from the Adult Reference Desk. One kit per teen until supplies last.</p><p></p>
X-ALT-DESC;FMTTYPE=text/html:<p>Teens can pick up a Valentine's Day Craft Starting Tuesday, February 8th from the Adult Reference Desk. One kit per teen until supplies last.</p><p></p>
LOCATION:El Segundo Public Library\, 111 W. Mariposa Avenue El Segundo\, California 90245
CLASS:PUBLIC
END:VEVENT
END:VCALENDAR
