BEGIN:VCALENDAR
VERSION:2.0
PRODID:El Segundo Libraries Calendar Creator
METHOD:PUBLISH
BEGIN:VEVENT
DTSTAMP:20220322T115457
DTSTART:20220323T153000
DTEND:20220323T161500
SUMMARY:Mad Science: Fire and Ice!
DESCRIPTION:<p>Children ages 5-12 are invited to this interactive show full of fascinating science demonstrations with air pressure, fire, bubbling potions, and more! After the show, continue the fun at home with a STEAM-Y Fun Kit, while supplies last. Children under 8 must be accompanied by an adult.</p>
X-ALT-DESC;FMTTYPE=text/html:<p>Children ages 5-12 are invited to this interactive show full of fascinating science demonstrations with air pressure, fire, bubbling potions, and more! After the show, continue the fun at home with a STEAM-Y Fun Kit, while supplies last. Children under 8 must be accompanied by an adult.</p>
LOCATION:Library Park\, 600 Block of Main Street El Segundo\, California 90245
CLASS:PUBLIC
END:VEVENT
END:VCALENDAR
