BEGIN:VCALENDAR
VERSION:2.0
PRODID:El Segundo Libraries Calendar Creator
METHOD:PUBLISH
BEGIN:VEVENT
DTSTAMP:20220112T121950
DTSTART:20220117T000000
DTEND:20220117T235900
SUMMARY:Martin Luther King Jr. Day - City Hall Closed
DESCRIPTION:<p>In honor of Martin Luther King Jr. Day, City Hall administrative offices will be closed on Monday, January 17th. City Hall will resume normal business hours on Tuesday, January 18th.</p>
X-ALT-DESC;FMTTYPE=text/html:<p>In honor of Martin Luther King Jr. Day, City Hall administrative offices will be closed on Monday, January 17th. City Hall will resume normal business hours on Tuesday, January 18th.</p>
LOCATION:
CLASS:PUBLIC
END:VEVENT
END:VCALENDAR
