BEGIN:VCALENDAR
VERSION:2.0
PRODID:El Segundo Libraries Calendar Creator
METHOD:PUBLISH
BEGIN:VEVENT
DTSTAMP:20220112T121906
DTSTART:20220127T110000
DTEND:20220127T120000
SUMMARY:Chief Bermudez Badge Pinning Ceremony
DESCRIPTION:<p>The City of El Segundo and the El Segundo Police Department invite you to join us for the badge pinning ceremony of Chief of Police Jaime Bermudez.</p><p>WHEN: <br>Thursday, January 27, 2022<br>11:00 a.m.</p><p>WHERE: <br>El Segundo Civic Plaza<br>348 Main Street<br>El Segundo, California 90245<br><br>No RSVP necessary. For more information, please contact Amanda O'Donnell at (310) 524-2270.</p><p>&nbsp;</p><p></p>
X-ALT-DESC;FMTTYPE=text/html:<p>The City of El Segundo and the El Segundo Police Department invite you to join us for the badge pinning ceremony of Chief of Police Jaime Bermudez.</p><p>WHEN: <br>Thursday, January 27, 2022<br>11:00 a.m.</p><p>WHERE: <br>El Segundo Civic Plaza<br>348 Main Street<br>El Segundo, California 90245<br><br>No RSVP necessary. For more information, please contact Amanda O'Donnell at (310) 524-2270.</p><p>&nbsp;</p><p></p>
LOCATION:
CLASS:PUBLIC
END:VEVENT
END:VCALENDAR
