BEGIN:VCALENDAR
VERSION:2.0
PRODID:El Segundo Libraries Calendar Creator
METHOD:PUBLISH
BEGIN:VEVENT
DTSTAMP:20211221T180052
DTSTART:20211220T000000
DTEND:20211223T235900
SUMMARY:Snow Flurries At The Point
DESCRIPTION:<p>Have fun at The Point!<br><br>December 23 on every Friday and Saturday from 6pm – 8pm for Magical Snow Flurries happening every 30 minutes! Plus every night from December 20 – 23.<br><br>Snow Flurries will take place on the grass and happen every 30 minutes starting at 6pm until 8pm.<br><br></p><p>&nbsp;</p><p>Dates:<br><br>Monday, December 20<br><br>Tuesday, December 21<br><br>Wednesday, December 22<br><br>Thursday, December 23</p>
X-ALT-DESC;FMTTYPE=text/html:<p>Have fun at The Point!<br><br>December 23 on every Friday and Saturday from 6pm – 8pm for Magical Snow Flurries happening every 30 minutes! Plus every night from December 20 – 23.<br><br>Snow Flurries will take place on the grass and happen every 30 minutes starting at 6pm until 8pm.<br><br></p><p>&nbsp;</p><p>Dates:<br><br>Monday, December 20<br><br>Tuesday, December 21<br><br>Wednesday, December 22<br><br>Thursday, December 23</p>
LOCATION:
CLASS:PUBLIC
END:VEVENT
END:VCALENDAR
