BEGIN:VCALENDAR
VERSION:2.0
PRODID:El Segundo Libraries Calendar Creator
METHOD:PUBLISH
BEGIN:VEVENT
DTSTAMP:20211221T142830
DTSTART:20211224T000000
DTEND:20211225T235900
SUMMARY:Christmas Holiday - City Hall Closed for Christmas Eve
DESCRIPTION:In observance of the Christmas Holiday, City Hall will be closed on Christmas Eve, Friday, December 24th and will return to normal operations on Monday, December 27th.<br>From all of us at the City of El Segundo, we wish you a very merry Christmas and happy holidays!
X-ALT-DESC;FMTTYPE=text/html:In observance of the Christmas Holiday, City Hall will be closed on Christmas Eve, Friday, December 24th and will return to normal operations on Monday, December 27th.<br>From all of us at the City of El Segundo, we wish you a very merry Christmas and happy holidays!
LOCATION:
CLASS:PUBLIC
END:VEVENT
END:VCALENDAR
