BEGIN:VCALENDAR
VERSION:2.0
PRODID:El Segundo Libraries Calendar Creator
METHOD:PUBLISH
BEGIN:VEVENT
DTSTAMP:20211221T091058
DTSTART:20211224T120000
DTEND:20211224T150000
SUMMARY:Christmas Dinner at the Joslyn Center
DESCRIPTION:Join us at the Joslyn Center on Friday, December 24th for a Holiday Dinner! Staff and volunteers will be serving guests a wonderful holiday meal! For those that are unable to attend, we will also be delivering meals. If you are interested in volunteering or would like to attend the dinner, please call 310-524-2705 to RSVP. Happy Holidays!&nbsp;
X-ALT-DESC;FMTTYPE=text/html:Join us at the Joslyn Center on Friday, December 24th for a Holiday Dinner! Staff and volunteers will be serving guests a wonderful holiday meal! For those that are unable to attend, we will also be delivering meals. If you are interested in volunteering or would like to attend the dinner, please call 310-524-2705 to RSVP. Happy Holidays!&nbsp;
LOCATION:
CLASS:PUBLIC
END:VEVENT
END:VCALENDAR
