BEGIN:VCALENDAR
VERSION:2.0
PRODID:El Segundo Libraries Calendar Creator
METHOD:PUBLISH
BEGIN:VEVENT
DTSTAMP:20211130T143051
DTSTART:20211203T170000
DTEND:20211203T200000
SUMMARY:Downtown El Segundo Holiday Open House
DESCRIPTION:Support local businesses and kick off the holidays with a festive evening of shopping, dining and fun at this year's Downtown El Segundo Holiday Open House. This event is presented by the El Segundo Chamber of Commerce and will be held on Friday, December 3rd from 5:00 to 8:00 p.m.<br><br>For more information on this event, visit the El Segundo Chamber of Commerce webpage <a href="https://www.elsegundochamber.com/about-3" target="_blank">here</a>.
X-ALT-DESC;FMTTYPE=text/html:Support local businesses and kick off the holidays with a festive evening of shopping, dining and fun at this year's Downtown El Segundo Holiday Open House. This event is presented by the El Segundo Chamber of Commerce and will be held on Friday, December 3rd from 5:00 to 8:00 p.m.<br><br>For more information on this event, visit the El Segundo Chamber of Commerce webpage <a href="https://www.elsegundochamber.com/about-3" target="_blank">here</a>.
LOCATION:Downtown El Segundo\, 
CLASS:PUBLIC
END:VEVENT
END:VCALENDAR
