BEGIN:VCALENDAR
VERSION:2.0
PRODID:El Segundo Libraries Calendar Creator
METHOD:PUBLISH
BEGIN:VEVENT
DTSTAMP:20211129T163935
DTSTART:20211209T173000
DTEND:20211209T190000
SUMMARY:Living with Coyotes
DESCRIPTION:The El Segundo Police Department will be hosting an educational&nbsp;<a href="https://www.elsegundopd.org/home/showdocument?id=4488" target="_blank" title="living with coyotes meeting flyer">meeting on "</a><a href="https://www.elsegundopd.org/home/showdocument?id=4488" target="_blank" title="living with coyotes meeting flyer">Living with Coyotes</a><a href="https://www.elsegundopd.org/home/showdocument?id=4488" target="_blank" title="living with coyotes meeting flyer">" in El Segundo</a>.&nbsp; Information will be provided on how to keep your family and pets safe, as well as a question and answer period.&nbsp; Representatives from the California Department of Fish and Wildlife will also be there to offer tips and explain laws related to coyotes in an urban environment.
X-ALT-DESC;FMTTYPE=text/html:The El Segundo Police Department will be hosting an educational&nbsp;<a href="https://www.elsegundopd.org/home/showdocument?id=4488" target="_blank" title="living with coyotes meeting flyer">meeting on "</a><a href="https://www.elsegundopd.org/home/showdocument?id=4488" target="_blank" title="living with coyotes meeting flyer">Living with Coyotes</a><a href="https://www.elsegundopd.org/home/showdocument?id=4488" target="_blank" title="living with coyotes meeting flyer">" in El Segundo</a>.&nbsp; Information will be provided on how to keep your family and pets safe, as well as a question and answer period.&nbsp; Representatives from the California Department of Fish and Wildlife will also be there to offer tips and explain laws related to coyotes in an urban environment.
LOCATION:
CLASS:PUBLIC
END:VEVENT
END:VCALENDAR
