BEGIN:VCALENDAR
VERSION:2.0
PRODID:El Segundo Libraries Calendar Creator
METHOD:PUBLISH
BEGIN:VEVENT
DTSTAMP:20211124T171027
DTSTART:20211211T100000
DTEND:20211211T120000
SUMMARY:Start With Art
DESCRIPTION:Families are invited to drop in to create an Age Appropriate fun craft!
X-ALT-DESC;FMTTYPE=text/html:Families are invited to drop in to create an Age Appropriate fun craft!
LOCATION:El Segundo Public Library\, 111 W. Mariposa Avenue El Segundo\, California 90245
CLASS:PUBLIC
END:VEVENT
END:VCALENDAR
