BEGIN:VCALENDAR
VERSION:2.0
PRODID:El Segundo Libraries Calendar Creator
METHOD:PUBLISH
BEGIN:VEVENT
DTSTAMP:20211104T182201
DTSTART:20211231T000000
DTEND:20211231T235900
SUMMARY:Library is Closed for New Year’s Eve
DESCRIPTION:Library is Closed for New Year’s Eve.
X-ALT-DESC;FMTTYPE=text/html:Library is Closed for New Year’s Eve.
LOCATION:
CLASS:PUBLIC
END:VEVENT
END:VCALENDAR
