BEGIN:VCALENDAR
VERSION:2.0
PRODID:El Segundo Libraries Calendar Creator
METHOD:PUBLISH
BEGIN:VEVENT
DTSTAMP:20211104T181912
DTSTART:20211225T000000
DTEND:20211225T235900
SUMMARY:Library is Closed for Christmas Day
DESCRIPTION:Library is Closed for Christmas Day
X-ALT-DESC;FMTTYPE=text/html:Library is Closed for Christmas Day
LOCATION:
CLASS:PUBLIC
END:VEVENT
END:VCALENDAR
