BEGIN:VCALENDAR
VERSION:2.0
PRODID:El Segundo Libraries Calendar Creator
METHOD:PUBLISH
BEGIN:VEVENT
DTSTAMP:20211104T181758
DTSTART:20211224T000000
DTEND:20211224T235900
SUMMARY:Library is Closed for Christmas Eve
DESCRIPTION:<p>Library is Closed for Christmas Eve.</p>
X-ALT-DESC;FMTTYPE=text/html:<p>Library is Closed for Christmas Eve.</p>
LOCATION:
CLASS:PUBLIC
END:VEVENT
END:VCALENDAR
